BEGIN:VCALENDAR
VERSION:2.0
PRODID:-//Pratham - ECPv6.13.2.1//NONSGML v1.0//EN
CALSCALE:GREGORIAN
METHOD:PUBLISH
X-WR-CALNAME:Pratham
X-ORIGINAL-URL:https://www.prathammysore.org
X-WR-CALDESC:Events for Pratham
REFRESH-INTERVAL;VALUE=DURATION:PT1H
X-Robots-Tag:noindex
X-PUBLISHED-TTL:PT1H
BEGIN:VTIMEZONE
TZID:UTC
BEGIN:STANDARD
TZOFFSETFROM:+0000
TZOFFSETTO:+0000
TZNAME:UTC
DTSTART:20250101T000000
END:STANDARD
END:VTIMEZONE
BEGIN:VEVENT
DTSTART;TZID=UTC:20250627T000000
DTEND;TZID=UTC:20250627T000000
DTSTAMP:20260423T211822
CREATED:20250705T175240Z
LAST-MODIFIED:20250705T180524Z
UID:2008-1750982400-1750982400@www.prathammysore.org
SUMMARY:Pivotree Company Employees Conducted a Classroom Activities
DESCRIPTION:Pivotree company Employees conducted a classroom activities at Pratham Educational Model Village Ranganathapura\, T.Narsipura Block and organized competitions for the students\, also distributed prizes to the winners on Friday 27th June.
URL:https://www.prathammysore.org/event/pivotree-company-employees-conducted-a-classroom-activities/
CATEGORIES:News
ATTACH;FMTTYPE=image/jpeg:https://www.prathammysore.org/wp-content/uploads/2025/07/WhatsApp-Image-2025-07-05-at-2.42.29-PM.jpeg
END:VEVENT
BEGIN:VEVENT
DTSTART;TZID=UTC:20250819T000000
DTEND;TZID=UTC:20250819T000000
DTSTAMP:20260423T211822
CREATED:20250820T055913Z
LAST-MODIFIED:20250820T055913Z
UID:2027-1755561600-1755561600@www.prathammysore.org
SUMMARY:WOMB TO WISDOM MOU
DESCRIPTION:The New project of Pratham Mysore WOMB TO WISDOM MOU was formally signed on 18th August 2025 between Pratham Mysore\, JSS Academy of Higher Education and Research and IHDUA. \nIt is a programme to help every woman give birth to a healthy and intelligent child. Whether you live in a village or town\, whether you studied or not\, rich or poor — every woman can have a strong\, smart baby if she takes care from the start.
URL:https://www.prathammysore.org/event/womb-to-wisdom-mou/
ATTACH;FMTTYPE=image/jpeg:https://www.prathammysore.org/wp-content/uploads/2025/08/WhatsApp-Image-2025-08-19-at-1.29.18-PM.jpeg
END:VEVENT
BEGIN:VEVENT
DTSTART;TZID=UTC:20250819T000000
DTEND;TZID=UTC:20250819T000000
DTSTAMP:20260423T211822
CREATED:20260131T081413Z
LAST-MODIFIED:20260131T083230Z
UID:2062-1755561600-1755561600@www.prathammysore.org
SUMMARY:Inauguration of the Second Year of the Rotary Global Grant Project
DESCRIPTION:The inauguration of the second year of the Rotary Global Grant Project was held at Hale Kempaianahundi School in T. Narasipura on August 2025. \nThe program inaugurated by former President of Rotary Bangalore West\, Shri Ram Bhat; Rotary members Shri Shiva Datta\, Ms. Keerthi Thakoria\, and Shri Pradeep Kumar. \nAlso\, Shri Ram Bhat\, along with members Shri Shiva Datta\, Ms. Keerthi Thakoria\, and Shri Pradeep Kumar\, visited Pratham Mysore office and intracted with founder Shri Ashwini Ranjan\, Nidigatta School (Maddur) and Varakodu and Kempaianahundi Schools (Mysuru and T. Narasipura). They observed classroom sessions and collected feedback from headmasters and teachers on the English program.
URL:https://www.prathammysore.org/event/inauguration-of-the-second-year-of-the-rotary-global-grant-project/
CATEGORIES:News
ATTACH;FMTTYPE=image/jpeg:https://www.prathammysore.org/wp-content/uploads/2026/01/WhatsApp-Image-2026-01-31-at-12.23.00-PM.jpeg
END:VEVENT
BEGIN:VEVENT
DTSTART;TZID=UTC:20251008T000000
DTEND;TZID=UTC:20251008T000000
DTSTAMP:20260423T211822
CREATED:20260131T084707Z
LAST-MODIFIED:20260131T084832Z
UID:2081-1759881600-1759881600@www.prathammysore.org
SUMMARY:Visit to Kodagahalli School
DESCRIPTION:Shri Satish Rao\, Founder of Pragati Organization; Shri Bhaskar Kalale from ECRM Organization; and Shri Jagadeesh from Pratham Mysuru visited the English program being conducted at Kodagahalli School\, T. Narasipura on 8th October 2025. They observed classroom sessions and collected feedback regarding the program from the school Headmaster\, teaching staff\, Pratham Mysuru volunteers and parents.
URL:https://www.prathammysore.org/event/visit-to-kodagahalli-school/
CATEGORIES:News
ATTACH;FMTTYPE=image/jpeg:https://www.prathammysore.org/wp-content/uploads/2026/01/WhatsApp-Image-2026-01-31-at-12.29.21-PM.jpeg
END:VEVENT
BEGIN:VEVENT
DTSTART;TZID=UTC:20251104T000000
DTEND;TZID=UTC:20251104T000000
DTSTAMP:20260423T211822
CREATED:20260131T085125Z
LAST-MODIFIED:20260131T085125Z
UID:2090-1762214400-1762214400@www.prathammysore.org
SUMMARY:An orientation on the Sexual Harassment & Child Protection Act
DESCRIPTION:An orientation on the Sexual Harassment & Child Protection Act was conducted for Rotary\, Pragathi\, Model Village\, and Learning Center staff on 4th November 2025 at the T. Narasipura program orientation by Mr. Mahesh from Pratham.
URL:https://www.prathammysore.org/event/an-orientation-on-the-sexual-harassment-child-protection-act/
CATEGORIES:News
ATTACH;FMTTYPE=image/jpeg:https://www.prathammysore.org/wp-content/uploads/2026/01/WhatsApp-Image-2026-01-31-at-12.38.59-PM.jpeg
END:VEVENT
BEGIN:VEVENT
DTSTART;TZID=UTC:20251219T000000
DTEND;TZID=UTC:20251219T000000
DTSTAMP:20260423T211822
CREATED:20260131T090436Z
LAST-MODIFIED:20260131T090436Z
UID:2097-1766102400-1766102400@www.prathammysore.org
SUMMARY:English Learning Fair
DESCRIPTION:English Learning Fair was organized under the Rotary Global Grant Project at Desihalli in Maddur Block and Basaralu School in Mandya On December 19th 2025. \nIn this program\, the BEO of Maddur Taluk\, Mr. Dhananjaya\, the BEO of Mandya\, Ms. Sowbhagya\, BRC Ms. Archana\, Eco Padma\, the President of Rotary Maddur Mr. Srinivas\, and Rotary members Mr. Mallaraju\, Mr. Madhusudan\, and Mr. Pratap participated. High school headmaster Mr. Devaraj\, teachers\, teachers and students of Chapur Doddi School\, and parents also took part and made the program a success.
URL:https://www.prathammysore.org/event/english-learning-fair/
CATEGORIES:News
ATTACH;FMTTYPE=image/jpeg:https://www.prathammysore.org/wp-content/uploads/2026/01/WhatsApp-Image-2026-01-31-at-12.52.26-PM.jpeg
END:VEVENT
BEGIN:VEVENT
DTSTART;TZID=UTC:20251221T000000
DTEND;TZID=UTC:20251221T000000
DTSTAMP:20260423T211822
CREATED:20260131T083856Z
LAST-MODIFIED:20260131T083945Z
UID:2075-1766275200-1766275200@www.prathammysore.org
SUMMARY:Participation in the Shikshagraha Exhibition
DESCRIPTION:Our organization participated in the Shikshagraha exhibition held at the Rani Bahadur Auditorium in Mysuru\, On 21st December 2025\, which featured NGOs working in the field of education. \nThe stall was visited by the Honorable Mysuru–Kodagu Member of Parliament\, Shri Yaduveer Krishnadatta Wadiyar\, the Principal of Mysuru DIET\, Shri Nagarajayya\, along with other dignitaries. They interacted with the team\, reviewed the learning materials of Pratham Mysuru and gained insights into the various educational programs being implemented.
URL:https://www.prathammysore.org/event/participation-in-the-shikshagraha-exhibition/
CATEGORIES:News
ATTACH;FMTTYPE=image/jpeg:https://www.prathammysore.org/wp-content/uploads/2026/01/WhatsApp-Image-2026-01-31-at-12.26.58-PM.jpeg
END:VEVENT
BEGIN:VEVENT
DTSTART;TZID=UTC:20251224T000000
DTEND;TZID=UTC:20251224T000000
DTSTAMP:20260423T211822
CREATED:20260131T085848Z
LAST-MODIFIED:20260131T125842Z
UID:2093-1766534400-1766534400@www.prathammysore.org
SUMMARY:Gratitude to Pratham Mysore Model Village Committee Members and the Villagers
DESCRIPTION:We extend our heartfelt gratitude to Pratham Mysore Model Village Committee members and the villagers of Muttathi\, Hyaknur and Sujjaluru for their generous support and cooperation. By coming together to collect funds and honor the Village volunteers for run the Pratham Mysore Educational program’s\, you have shown a true spirit of community and commitment toward education. We sincerely thank the school headmasters\, the SDMC president’s and members\, and all the parents for their valuable presence and encouragement. Your support and goodwill inspire us to continue working together for the betterment of children and the village.
URL:https://www.prathammysore.org/event/gratitude-to-pratham-mysore-model-village-committee-members-and-the-villagers/
CATEGORIES:News
ATTACH;FMTTYPE=image/jpeg:https://www.prathammysore.org/wp-content/uploads/2026/01/WhatsApp-Image-2026-01-31-at-12.44.44-PM.jpeg
END:VEVENT
BEGIN:VEVENT
DTSTART;TZID=UTC:20260218T000000
DTEND;TZID=UTC:20260218T000000
DTSTAMP:20260423T211822
CREATED:20260224T115330Z
LAST-MODIFIED:20260224T115330Z
UID:2102-1771372800-1771372800@www.prathammysore.org
SUMMARY:Meeting with Sri. Dinesh Gundu Rao\, Hon’ble Minister of Health & Family Welfare\, Government of Karnataka.
DESCRIPTION:On 18 February 2026\, our Pratham Mysore Founder Mr.Ashwini Ranjan\, along with Advisor Mr. Bhamy V. Shenoy and Mr. Jagadeesh\, had the honor of meeting Sri. Dinesh Gundu Rao\, Hon’ble Minister of Health & Family Welfare\, Government of Karnataka. \nDuring the meeting\, we introduced “Womb to Wisdom”\, the new initiative planned by Pratham Mysore\, and shared our vision for creating meaningful social impact. We are deeply encouraged by the Hon’ble Minister’s positive response and his assurance of full support and cooperation for the successful implementation of this initiative.
URL:https://www.prathammysore.org/event/meeting-with-sri-dinesh-gundu-rao-honble-minister-of-health-family-welfare-government-of-karnataka/
CATEGORIES:News
ATTACH;FMTTYPE=image/jpeg:https://www.prathammysore.org/wp-content/uploads/2026/02/WhatsApp-Image-2026-02-24-at-5.12.30-PM.jpeg
END:VEVENT
BEGIN:VEVENT
DTSTART;TZID=UTC:20260221T000000
DTEND;TZID=UTC:20260221T000000
DTSTAMP:20260423T211822
CREATED:20260224T115913Z
LAST-MODIFIED:20260224T120104Z
UID:2105-1771632000-1771632000@www.prathammysore.org
SUMMARY:Visit to Chamnalli and Ranganathapura villages in T. Narsipura Taluk\, Mysuru District
DESCRIPTION:On 21st February 2026\, Mr. Harsh\, from Podar Company and Mr. Jagadeesh from Pratham Mysuru visited Chamnalli and Ranganathapura villages in T. Narsipura Taluk\, Mysuru district. \nThe visit was conducted for a collected information about villages\, schools as these villages have been selected to become Pratham Mysuru Model Education Villages from the upcoming academic year. Interactions were held with schools\, Anganwadi workers\, SDMC members\, village leaders\, and children\, followed by Anganwadi visits to understand the status of early childhood education.
URL:https://www.prathammysore.org/event/visit-to-chamnalli-and-ranganathapura-villages-in-t-narsipura-taluk-mysuru-district/
ATTACH;FMTTYPE=image/jpeg:https://www.prathammysore.org/wp-content/uploads/2026/02/WhatsApp-Image-2026-02-24-at-5.12.55-PM.jpeg
END:VEVENT
END:VCALENDAR